BEGIN:VCALENDAR
VERSION:2.0
CALSCALE:GREGORIAN
PRODID:adamgibbons/ics
METHOD:PUBLISH
X-PUBLISHED-TTL:PT1H
BEGIN:VEVENT
UID:372@improkalender-stuttgart.de
SUMMARY:Improtheater Stuttgart: True Stories - improvisierte Gameshow rund 
	um Lüge und Wahrheit
DTSTAMP:20260423T103428Z
DTSTART:20260425T180000Z
DTEND:20260425T200000Z
URL:https://improkalender-stuttgart.de/event/improtheater-stuttgart-true-st
	ories-improvisierte-gameshow-rund-um-luge-und-wahrheit
LOCATION:Kulturzentrum Merlin - Kulturverein Merlin e.V.\, Augustenstraße 7
	2\, 70178 Stuttgart
STATUS:CONFIRMED
CATEGORIES:Improtheater,Improtheater Stuttgart,Show
END:VEVENT
BEGIN:VEVENT
UID:373@improkalender-stuttgart.de
SUMMARY:Improshow mit dem Improtheater Stuttgart
DTSTAMP:20260423T103428Z
DTSTART:20260521T180000Z
DTEND:20260521T200000Z
URL:https://improkalender-stuttgart.de/event/improshow-mit-dem-improtheater
	-stuttgart
LOCATION:Kulturzentrum Merlin - Kulturverein Merlin e.V.\, Augustenstraße 7
	2\, 70178 Stuttgart
STATUS:CONFIRMED
CATEGORIES:Improtheater,Improtheater Stuttgart,Show
END:VEVENT
BEGIN:VEVENT
UID:374@improkalender-stuttgart.de
SUMMARY:Improshow mit dem Improtheater Stuttgart
DTSTAMP:20260423T103428Z
DTSTART:20260625T180000Z
DTEND:20260625T200000Z
URL:https://improkalender-stuttgart.de/event/improshow-mit-dem-improtheater
	-stuttgart-1
LOCATION:Kulturzentrum Merlin - Kulturverein Merlin e.V.\, Augustenstraße 7
	2\, 70178 Stuttgart
STATUS:CONFIRMED
CATEGORIES:Improtheater,Improtheater Stuttgart,Show
END:VEVENT
BEGIN:VEVENT
UID:375@improkalender-stuttgart.de
SUMMARY:Improshow mit dem Improtheater Stuttgart
DTSTAMP:20260423T103428Z
DTSTART:20260925T180000Z
DTEND:20260925T200000Z
URL:https://improkalender-stuttgart.de/event/improshow-mit-dem-improtheater
	-stuttgart-2
LOCATION:Kulturzentrum Merlin - Kulturverein Merlin e.V.\, Augustenstraße 7
	2\, 70178 Stuttgart
STATUS:CONFIRMED
CATEGORIES:Improtheater,Improtheater Stuttgart,Show
END:VEVENT
BEGIN:VEVENT
UID:376@improkalender-stuttgart.de
SUMMARY:Improshow mit dem Improtheater Stuttgart
DTSTAMP:20260423T103428Z
DTSTART:20261023T180000Z
DTEND:20261023T200000Z
URL:https://improkalender-stuttgart.de/event/improshow-mit-dem-improtheater
	-stuttgart-3
LOCATION:Kulturzentrum Merlin - Kulturverein Merlin e.V.\, Augustenstraße 7
	2\, 70178 Stuttgart
STATUS:CONFIRMED
CATEGORIES:Improtheater,Improtheater Stuttgart,Show
END:VEVENT
BEGIN:VEVENT
UID:377@improkalender-stuttgart.de
SUMMARY:Improtheater Stuttgart präsentiert: Couchsurfing
DTSTAMP:20260423T103428Z
DTSTART:20261121T190000Z
DTEND:20261121T210000Z
URL:https://improkalender-stuttgart.de/event/improtheater-stuttgart-prasent
	iert-couchsurfing
LOCATION:Kulturzentrum Merlin - Kulturverein Merlin e.V.\, Augustenstraße 7
	2\, 70178 Stuttgart
STATUS:CONFIRMED
CATEGORIES:Improtheater,Improtheater Stuttgart,Show
END:VEVENT
BEGIN:VEVENT
UID:378@improkalender-stuttgart.de
SUMMARY:Improtheater Stuttgart: die legendäre Adventskalendershow
DTSTAMP:20260423T103428Z
DTSTART:20261219T190000Z
DTEND:20261219T210000Z
URL:https://improkalender-stuttgart.de/event/improtheater-stuttgart-die-leg
	endare-adventskalendershow
LOCATION:Kulturzentrum Merlin - Kulturverein Merlin e.V.\, Augustenstraße 7
	2\, 70178 Stuttgart
STATUS:CONFIRMED
CATEGORIES:Improtheater,Improtheater Stuttgart,Show
END:VEVENT
END:VCALENDAR
